BEGIN:VCALENDAR
VERSION:2.0
PRODID:-//Hautemorges en Transition - ECPv6.15.20//NONSGML v1.0//EN
CALSCALE:GREGORIAN
METHOD:PUBLISH
X-WR-CALNAME:Hautemorges en Transition
X-ORIGINAL-URL:https://www.hautemorges-transition.ch
X-WR-CALDESC:Évènements pour Hautemorges en Transition
REFRESH-INTERVAL;VALUE=DURATION:PT1H
X-Robots-Tag:noindex
X-PUBLISHED-TTL:PT1H
BEGIN:VTIMEZONE
TZID:Europe/Zurich
BEGIN:DAYLIGHT
TZOFFSETFROM:+0100
TZOFFSETTO:+0200
TZNAME:CEST
DTSTART:20240331T010000
END:DAYLIGHT
BEGIN:STANDARD
TZOFFSETFROM:+0200
TZOFFSETTO:+0100
TZNAME:CET
DTSTART:20241027T010000
END:STANDARD
BEGIN:DAYLIGHT
TZOFFSETFROM:+0100
TZOFFSETTO:+0200
TZNAME:CEST
DTSTART:20250330T010000
END:DAYLIGHT
BEGIN:STANDARD
TZOFFSETFROM:+0200
TZOFFSETTO:+0100
TZNAME:CET
DTSTART:20251026T010000
END:STANDARD
BEGIN:DAYLIGHT
TZOFFSETFROM:+0100
TZOFFSETTO:+0200
TZNAME:CEST
DTSTART:20260329T010000
END:DAYLIGHT
BEGIN:STANDARD
TZOFFSETFROM:+0200
TZOFFSETTO:+0100
TZNAME:CET
DTSTART:20261025T010000
END:STANDARD
END:VTIMEZONE
BEGIN:VEVENT
DTSTART;TZID=Europe/Zurich:20251120T193000
DTEND;TZID=Europe/Zurich:20251120T210000
DTSTAMP:20260420T115721
CREATED:20250910T203736Z
LAST-MODIFIED:20251115T080745Z
UID:9006-1763667000-1763672400@www.hautemorges-transition.ch
SUMMARY:Ciné-Club : projection du film «Irremplaçables épiceries!»
DESCRIPTION:Réalisé par Jacques Mirenowicz\, le film « Irremplaçables épiceries ! » (47 minutes) met en lumière le fonctionnement d’épiceries alternatives en Suisse romande. Ces commerces s’approvisionnent auprès de fermes en agroécologie et d’ateliers de transformation artisanaux. Ils garantissent la transparence sur leurs marges\, évitent le gaspillage alimentaire\, limitent les emballages\, assurent un contact privilégié avec la clientèle et sont en phase avec l’agriculture paysanne. \nLa projection aura lieu à 19h30 et sera suivie d’une discussion avec plusieurs invités :\n \n\nVictor Bovy\, coopérative de producteurs DorignoL\nCarole Richardet\, c’est Patou\nOriane Novello\, Fromagerie Kämpf\nSonia et Sefora\, la maison du vrac\nainsi que les épiceries de la région\n\nConsommations au bar de l’Embrasure. \nEntrée libre\, participation volontaire (chapeau) et inscription obligatoire : \n\n	Remarque : JavaScript est requis pour ce contenu.
URL:https://www.hautemorges-transition.ch/event/20251120-cineclubhet/
LOCATION:Ballens (L’embrasure)\, rue de la vieille forge 5\, Ballens\, Vaud\, 1144\, Switzerland
CATEGORIES:ENDEMIK,Projections
ATTACH;FMTTYPE=image/png:https://www.hautemorges-transition.ch/wp-content/uploads/2025/09/202511_HeT_cineclub_bannerwbordMoyen.png
END:VEVENT
END:VCALENDAR