BEGIN:VCALENDAR
VERSION:2.0
PRODID:-//Hautemorges en Transition - ECPv6.15.20//NONSGML v1.0//EN
CALSCALE:GREGORIAN
METHOD:PUBLISH
X-ORIGINAL-URL:https://www.hautemorges-transition.ch
X-WR-CALDESC:Évènements pour Hautemorges en Transition
REFRESH-INTERVAL;VALUE=DURATION:PT1H
X-Robots-Tag:noindex
X-PUBLISHED-TTL:PT1H
BEGIN:VTIMEZONE
TZID:Europe/Zurich
BEGIN:DAYLIGHT
TZOFFSETFROM:+0100
TZOFFSETTO:+0200
TZNAME:CEST
DTSTART:20210328T010000
END:DAYLIGHT
BEGIN:STANDARD
TZOFFSETFROM:+0200
TZOFFSETTO:+0100
TZNAME:CET
DTSTART:20211031T010000
END:STANDARD
BEGIN:DAYLIGHT
TZOFFSETFROM:+0100
TZOFFSETTO:+0200
TZNAME:CEST
DTSTART:20220327T010000
END:DAYLIGHT
BEGIN:STANDARD
TZOFFSETFROM:+0200
TZOFFSETTO:+0100
TZNAME:CET
DTSTART:20221030T010000
END:STANDARD
BEGIN:DAYLIGHT
TZOFFSETFROM:+0100
TZOFFSETTO:+0200
TZNAME:CEST
DTSTART:20230326T010000
END:DAYLIGHT
BEGIN:STANDARD
TZOFFSETFROM:+0200
TZOFFSETTO:+0100
TZNAME:CET
DTSTART:20231029T010000
END:STANDARD
END:VTIMEZONE
BEGIN:VEVENT
DTSTART;TZID=Europe/Zurich:20221115T193000
DTEND;TZID=Europe/Zurich:20221115T210000
DTSTAMP:20260424T221227
CREATED:20220927T193811Z
LAST-MODIFIED:20221121T223024Z
UID:7715-1668540600-1668546000@www.hautemorges-transition.ch
SUMMARY:Ciné Club - 2040 - les solutions pour la planète existent
DESCRIPTION:Après le succès de SUGARLAND\, Damon Gameau s’interroge sur l’avenir de nos enfants : à quoi pourrait ressembler leur futur en 2040 si nous adoptions simplement des solutions déjà disponibles pour le traitement de la nourriture\, de l’énergie et de l’éducation? \nEn parcourant le monde et en s’appuyant sur des experts et des découvertes concrètes\, Damon nous projette dans le futur pour la sauvegarde de la planète. Ce voyage initiatique et ludique est un hymne aux nouvelles générations pour leur permettre de prendre leur destin en mains ! \n\n\nRéalisateur: Damon Gameau\nAnnée: 2019\nDurée: 1h33 min.\n\n\n\n\nLangue(s): Français\n\n\nAge suggéré: 14\n \nTrailer : https://www.youtube.com/watch?v=EpO88wwxxCQ\n\nAprès la projection\, la discussion pourra se poursuivre autour d’un apéro. Dans l’esprit vert et zéro déchet\, pense à prendre ton verre / gobelet. Covoiturage encouragé. \nRendez-vous dès 19h00 à la Grande salle de Pampigny (en face de l’Auberge communale).\nMerci d’utiliser le parking du Champ Carré (école) et emprunter le Chemin des écoliers pour se rendre à pied à la Grande Salle (5 minutes à pied). \nCovoiturage encouragé: vous pouvez utiliser le groupe whatsapp PampiTaxi\, si vous ne faites pas encore partie de ce groupe\, inscrivez-vous ici  https://forms.office.com/r/44dgPA8Sgq – en savoir plus \nProjection publique – ouverte à toutes et tous. Inscription souhaitée: \n\n	Remarque : JavaScript est requis pour ce contenu.
URL:https://www.hautemorges-transition.ch/event/cine-club-2040/
LOCATION:Pampigny\, Grande Salle\, Place du Château\, Pampigny\, 1142
CATEGORIES:Projections
END:VEVENT
END:VCALENDAR