BEGIN:VCALENDAR
VERSION:2.0
PRODID:-//Hautemorges en Transition - ECPv6.15.20//NONSGML v1.0//EN
CALSCALE:GREGORIAN
METHOD:PUBLISH
X-ORIGINAL-URL:https://www.hautemorges-transition.ch
X-WR-CALDESC:Évènements pour Hautemorges en Transition
REFRESH-INTERVAL;VALUE=DURATION:PT1H
X-Robots-Tag:noindex
X-PUBLISHED-TTL:PT1H
BEGIN:VTIMEZONE
TZID:Europe/Zurich
BEGIN:DAYLIGHT
TZOFFSETFROM:+0100
TZOFFSETTO:+0200
TZNAME:CEST
DTSTART:20210328T010000
END:DAYLIGHT
BEGIN:STANDARD
TZOFFSETFROM:+0200
TZOFFSETTO:+0100
TZNAME:CET
DTSTART:20211031T010000
END:STANDARD
BEGIN:DAYLIGHT
TZOFFSETFROM:+0100
TZOFFSETTO:+0200
TZNAME:CEST
DTSTART:20220327T010000
END:DAYLIGHT
BEGIN:STANDARD
TZOFFSETFROM:+0200
TZOFFSETTO:+0100
TZNAME:CET
DTSTART:20221030T010000
END:STANDARD
BEGIN:DAYLIGHT
TZOFFSETFROM:+0100
TZOFFSETTO:+0200
TZNAME:CEST
DTSTART:20230326T010000
END:DAYLIGHT
BEGIN:STANDARD
TZOFFSETFROM:+0200
TZOFFSETTO:+0100
TZNAME:CET
DTSTART:20231029T010000
END:STANDARD
END:VTIMEZONE
BEGIN:VEVENT
DTSTART;TZID=Europe/Zurich:20220906T193000
DTEND;TZID=Europe/Zurich:20220906T210000
DTSTAMP:20260425T004946
CREATED:20220625T073607Z
LAST-MODIFIED:20220815T212024Z
UID:7398-1662492600-1662498000@www.hautemorges-transition.ch
SUMMARY:Ciné Club - ANIMAL
DESCRIPTION:Bella et Vipulan ont 16 ans\, une génération persuadée que leur avenir est menacé. Changement climatique\, sixième extinction de masse des espèces: d’ici 50 ans\, leur monde pourrait devenir inhabitable. Alors\, ils décident de remonter à la source du problème: notre relation au monde vivant. \n\n\nRéalisateur: Cyril Dion\nAnnée: 2021\nDurée: 106 min.\n\n\n\n\nLangue(s): Français\n\n\nAge légal : 10 ans  – Age suggéré: 14\n \nTrailer : https://www.animal-lefilm.com/\n\nAprès la projection\, la discussion pourra se poursuivre autour d’un apéro. Dans l’esprit vert et zéro déchet\, pense à prendre ton verre / gobelet. Covoiturage encouragé. \nRendez-vous dès 19h00 à la Grande salle de Pampigny (en face de l’Auberge communale).\nMerci d’utiliser le parking du Champ Carré (école) et emprunter le Chemin des écoliers pour se rendre à pied à la Grande Salle (5 minutes à pied). \nCovoiturage encouragé: vous pouvez utiliser le groupe whatsapp PampiTaxi\, si vous ne faites pas encore partie de ce groupe\, inscrivez-vous ici  https://forms.office.com/r/44dgPA8Sgq – en savoir plus \nProjection publique – ouverte à toutes et tous. Inscription souhaitée : \n\n	Remarque : JavaScript est requis pour ce contenu.
URL:https://www.hautemorges-transition.ch/event/cine-club-animal/
LOCATION:Pampigny\, Grande Salle\, Place du Château\, Pampigny\, 1142
CATEGORIES:Projections
ATTACH;FMTTYPE=image/png:https://www.hautemorges-transition.ch/wp-content/uploads/2022/06/cine-club.png
END:VEVENT
END:VCALENDAR