BEGIN:VCALENDAR
VERSION:2.0
PRODID:-//Hautemorges en Transition - ECPv6.15.20//NONSGML v1.0//EN
CALSCALE:GREGORIAN
METHOD:PUBLISH
X-WR-CALNAME:Hautemorges en Transition
X-ORIGINAL-URL:https://www.hautemorges-transition.ch
X-WR-CALDESC:Évènements pour Hautemorges en Transition
REFRESH-INTERVAL;VALUE=DURATION:PT1H
X-Robots-Tag:noindex
X-PUBLISHED-TTL:PT1H
BEGIN:VTIMEZONE
TZID:Europe/Zurich
BEGIN:DAYLIGHT
TZOFFSETFROM:+0100
TZOFFSETTO:+0200
TZNAME:CEST
DTSTART:20210328T010000
END:DAYLIGHT
BEGIN:STANDARD
TZOFFSETFROM:+0200
TZOFFSETTO:+0100
TZNAME:CET
DTSTART:20211031T010000
END:STANDARD
BEGIN:DAYLIGHT
TZOFFSETFROM:+0100
TZOFFSETTO:+0200
TZNAME:CEST
DTSTART:20220327T010000
END:DAYLIGHT
BEGIN:STANDARD
TZOFFSETFROM:+0200
TZOFFSETTO:+0100
TZNAME:CET
DTSTART:20221030T010000
END:STANDARD
BEGIN:DAYLIGHT
TZOFFSETFROM:+0100
TZOFFSETTO:+0200
TZNAME:CEST
DTSTART:20230326T010000
END:DAYLIGHT
BEGIN:STANDARD
TZOFFSETFROM:+0200
TZOFFSETTO:+0100
TZNAME:CET
DTSTART:20231029T010000
END:STANDARD
END:VTIMEZONE
BEGIN:VEVENT
DTSTART;TZID=Europe/Zurich:20220602T193000
DTEND;TZID=Europe/Zurich:20220602T210000
DTSTAMP:20260425T045525
CREATED:20220426T155126Z
LAST-MODIFIED:20220510T193613Z
UID:7202-1654198200-1654203600@www.hautemorges-transition.ch
SUMMARY:Ciné Club - La Croisade
DESCRIPTION:Projection publique à 19h30. Ouverture des portes à 19h00. \nLa robe Dior n’est plus là ! La veste en cuir a disparu ! Tout comme les montres de collection. À la cave les vins les plus chers manquent à l’appel. Marianne et Abel sont au bord de la crise de nerfs. Leur fils de 13 ans a vendu ces objets précieux et bien d’autres choses encore. Parce que personne n’en a vraiment besoin – leur absence n’a même pas été remarquée pendant plusieurs semaines. Voilà les explications de Joseph qui a besoin de beaucoup d’argent pour un projet totalement utopique aux yeux de ses parents. Jusqu’à ce qu’ils réalisent que leur fils et des centaines de jeunes du monde entier ont un plan très sérieux pour sauver la planète… \n \nLa Croisade\nFR – 2021 – Comédie – 67 min. \nAvec Louis Garrel\, Laetitia Casta\, Joseph Engel \nRéalisation : Louis Garrel \nBande annonce : La Croisade \nÂge légal : 10 ans \nÂge suggéré : 14 ans \n  \n  \nAprès la projection\, la discussion pourra se poursuivre autour d’un apéro. Dans l’esprit vert et zéro déchet\, pense à prendre ton verre / gobelet. Covoiturage encouragé. \n\n	Remarque : JavaScript est requis pour ce contenu.\n\n\n    \n\n\n        \n        \n        \nLa croisade
URL:https://www.hautemorges-transition.ch/event/cine-club-2202/
LOCATION:Apples salle du Conseil communal d’Apples\, 2e étage du Collège Léman\, chemin des Collèges 5\, Apples\, 1143\, Suisse
CATEGORIES:Projections
ATTACH;FMTTYPE=image/png:https://www.hautemorges-transition.ch/wp-content/uploads/2022/03/banner_cine_club.png
END:VEVENT
BEGIN:VEVENT
DTSTART;TZID=Europe/Zurich:20220628T193000
DTEND;TZID=Europe/Zurich:20220628T213000
DTSTAMP:20260425T045525
CREATED:20220519T102210Z
LAST-MODIFIED:20220815T210126Z
UID:7284-1656444600-1656451800@www.hautemorges-transition.ch
SUMMARY:Ciné Club - Un monde sous vide
DESCRIPTION:Ciné-club / pour le retour sur l’événement\, voir la chronique ici. \n********\nÀ mi-chemin entre le documentaire environnemental et le film de voyage\, le film raconte l’histoire d’une incroyable épopée à travers l’Europe. De Tarifa au Cap Nord\, Fabien a parcouru 8’000 kilomètres à vélo en tentant de s’affranchir du moindre emballage en plastique. À travers cette singulière expérience\, et en rapprochant les messages des scientifiques à ceux des citoyens\, Fabien nous invite à interroger nos modes de consommation\, et plus globalement notre rapport au monde. \nProjection en présence de Fabien Favre.\n\n\n\n\n\nRéalisateur: Hervé Pfister\n\n\nAnnée: 2021\n\n\nDurée: 77min.\n\n\n\n\nLangue(s): Français\n\n\nAge suggéré: 10\n\nTrailer : https://vimeo.com/432464121\n\nAprès la projection\, la discussion pourra se poursuivre autour d’un apéro. Dans l’esprit vert et zéro déchet\, pense à prendre ton verre / gobelet. Covoiturage encouragé. \n\n	Remarque : JavaScript est requis pour ce contenu.
URL:https://www.hautemorges-transition.ch/event/cine-club-un-monde-sous-vide/
LOCATION:Apples salle du Conseil communal d’Apples\, 2e étage du Collège Léman\, chemin des Collèges 5\, Apples\, 1143\, Suisse
CATEGORIES:Projections
ATTACH;FMTTYPE=image/png:https://www.hautemorges-transition.ch/wp-content/uploads/2022/03/banner_cine_club.png
END:VEVENT
END:VCALENDAR