BEGIN:VCALENDAR
VERSION:2.0
PRODID:-//Hautemorges en Transition - ECPv6.15.20//NONSGML v1.0//EN
CALSCALE:GREGORIAN
METHOD:PUBLISH
X-WR-CALNAME:Hautemorges en Transition
X-ORIGINAL-URL:https://www.hautemorges-transition.ch
X-WR-CALDESC:Évènements pour Hautemorges en Transition
REFRESH-INTERVAL;VALUE=DURATION:PT1H
X-Robots-Tag:noindex
X-PUBLISHED-TTL:PT1H
BEGIN:VTIMEZONE
TZID:Europe/Zurich
BEGIN:DAYLIGHT
TZOFFSETFROM:+0100
TZOFFSETTO:+0200
TZNAME:CEST
DTSTART:20200329T010000
END:DAYLIGHT
BEGIN:STANDARD
TZOFFSETFROM:+0200
TZOFFSETTO:+0100
TZNAME:CET
DTSTART:20201025T010000
END:STANDARD
BEGIN:DAYLIGHT
TZOFFSETFROM:+0100
TZOFFSETTO:+0200
TZNAME:CEST
DTSTART:20210328T010000
END:DAYLIGHT
BEGIN:STANDARD
TZOFFSETFROM:+0200
TZOFFSETTO:+0100
TZNAME:CET
DTSTART:20211031T010000
END:STANDARD
BEGIN:DAYLIGHT
TZOFFSETFROM:+0100
TZOFFSETTO:+0200
TZNAME:CEST
DTSTART:20220327T010000
END:DAYLIGHT
BEGIN:STANDARD
TZOFFSETFROM:+0200
TZOFFSETTO:+0100
TZNAME:CET
DTSTART:20221030T010000
END:STANDARD
END:VTIMEZONE
BEGIN:VEVENT
DTSTART;TZID=Europe/Zurich:20211202T183000
DTEND;TZID=Europe/Zurich:20211202T200000
DTSTAMP:20260425T130855
CREATED:20211113T154308Z
LAST-MODIFIED:20211113T163848Z
UID:6613-1638469800-1638475200@www.hautemorges-transition.ch
SUMMARY:Projection du documentaire "Le pari d'Esther"
DESCRIPTION:Le 2 décembre\, le Pari d’Esther à Morges\nLe Pari d’Esther est un documentaire sur la transition vaudoise. Durant un an\, la journaliste Camille Andres a suivi Esther Mottier\, paysanne et entrepreneure à Château-d’Oex qui développe un projet de ferme durable et innovante: hôtellerie\, fromagerie\, spa\, restaurant et ferme sous un même toit. Ce projet à 22 millions de francs doit créer 58 postes de travail et susciter de nouvelles manières de vivre\, consommer\, travailler\, plus en harmonie avec la nature et avec soi-même.\nLe jeudi 2.12 à 18h30 à l’Odéon de Morges\, projection suivie d’un débat avec Esther Mottier\, le réseau transition Morges et Région Transition et ZeroWaste Switzerland.\n\nAchat des billets via le site du cinéma Odéon : https://www.cinemaodeon.ch/\n\nLe Pari d’Esther | Un documentaire de Camille Andres (leparidesther.ch)\,
URL:https://www.hautemorges-transition.ch/event/2021-12-02/
LOCATION:Cinéma Odéon\, Morges\, place dufour 4\, Morges\, Vaud\, 1110\, Suisse
CATEGORIES:Projections
ATTACH;FMTTYPE=image/png:https://www.hautemorges-transition.ch/wp-content/uploads/2021/11/LeParidEsther.png
ORGANIZER;CN="Cercle Racine":MAILTO:contact@hautemorges-transition.ch
END:VEVENT
END:VCALENDAR