BEGIN:VCALENDAR
VERSION:2.0
PRODID:-//Hautemorges en Transition - ECPv6.15.20//NONSGML v1.0//EN
CALSCALE:GREGORIAN
METHOD:PUBLISH
X-WR-CALNAME:Hautemorges en Transition
X-ORIGINAL-URL:https://www.hautemorges-transition.ch
X-WR-CALDESC:Évènements pour Hautemorges en Transition
REFRESH-INTERVAL;VALUE=DURATION:PT1H
X-Robots-Tag:noindex
X-PUBLISHED-TTL:PT1H
BEGIN:VTIMEZONE
TZID:Europe/Zurich
BEGIN:DAYLIGHT
TZOFFSETFROM:+0100
TZOFFSETTO:+0200
TZNAME:CEST
DTSTART:20250330T010000
END:DAYLIGHT
BEGIN:STANDARD
TZOFFSETFROM:+0200
TZOFFSETTO:+0100
TZNAME:CET
DTSTART:20251026T010000
END:STANDARD
BEGIN:DAYLIGHT
TZOFFSETFROM:+0100
TZOFFSETTO:+0200
TZNAME:CEST
DTSTART:20260329T010000
END:DAYLIGHT
BEGIN:STANDARD
TZOFFSETFROM:+0200
TZOFFSETTO:+0100
TZNAME:CET
DTSTART:20261025T010000
END:STANDARD
BEGIN:DAYLIGHT
TZOFFSETFROM:+0100
TZOFFSETTO:+0200
TZNAME:CEST
DTSTART:20270328T010000
END:DAYLIGHT
BEGIN:STANDARD
TZOFFSETFROM:+0200
TZOFFSETTO:+0100
TZNAME:CET
DTSTART:20271031T010000
END:STANDARD
END:VTIMEZONE
BEGIN:VEVENT
DTSTART;TZID=Europe/Zurich:20260502T193000
DTEND;TZID=Europe/Zurich:20260502T210000
DTSTAMP:20260424T230612
CREATED:20260322T213815Z
LAST-MODIFIED:20260329T213426Z
UID:9242-1777750200-1777755600@www.hautemorges-transition.ch
SUMMARY:Ciné-Club : projection du film DEVENIR PAYSAN
DESCRIPTION:Un documentaire suisse qui explore le parcours d’un jeune diplômé choisissant de devenir agriculteur face aux défis de la relève agricole. \nBande annonce \nFils de médecins et diplômé HEC\, Léonard\, décide de devenir agriculteur. Il se lance alors dans un apprentissage dans le canton de Vaud. Entre la confrontation de ses idéaux et les difficultés de l’accès à la terre\, son rêve se heurte pourtant à la réalité. A travers le parcours de Léonard et de ses rencontres avec des agriculteurs\, des chercheurs et d’autres néopaysans\, le film explore un monde en transition. \nA l’heure où deux à trois fermes disparaissent chaque jour en Suisse\, faute de relève\, Devenir paysan questionne la place qui est laissée aux personnes ne provenant pas du milieu agricole. \nLe documentaire met en lumière la rencontre entre deux mondes et souligne la nécessité d’un dialogue ville-campagne ainsi que le renouvellement de la profession agricole pour des raisons écologiques et sociales. \nRéalisation et production\nUn film d’Alexia Tissières avec Mathilde Vandaele\nDurée : 92 minutes\nLangue originale : Français\nFilm produit et réalisé en Suisse\nPremière mondiale : janvier 2026 \nwww.devenirpaysan.ch \nEntrée libre\, participation volontaire (chapeau) et inscription obligatoire : \n\n	Remarque : JavaScript est requis pour ce contenu.
URL:https://www.hautemorges-transition.ch/event/cine-club-projection-du-film-devenir-paysan/
LOCATION:Ancien stand de tir à Pampigny\, route du stand\, Pampigny\, Suisse
CATEGORIES:Formation,Projections
ATTACH;FMTTYPE=image/png:https://www.hautemorges-transition.ch/wp-content/uploads/2026/03/20260502_DevenirPaysan-banner.png
END:VEVENT
END:VCALENDAR