BEGIN:VCALENDAR
VERSION:2.0
PRODID:-//Hautemorges en Transition - ECPv6.15.20//NONSGML v1.0//EN
CALSCALE:GREGORIAN
METHOD:PUBLISH
X-WR-CALNAME:Hautemorges en Transition
X-ORIGINAL-URL:https://www.hautemorges-transition.ch
X-WR-CALDESC:Évènements pour Hautemorges en Transition
REFRESH-INTERVAL;VALUE=DURATION:PT1H
X-Robots-Tag:noindex
X-PUBLISHED-TTL:PT1H
BEGIN:VTIMEZONE
TZID:Europe/Zurich
BEGIN:DAYLIGHT
TZOFFSETFROM:+0100
TZOFFSETTO:+0200
TZNAME:CEST
DTSTART:20240331T010000
END:DAYLIGHT
BEGIN:STANDARD
TZOFFSETFROM:+0200
TZOFFSETTO:+0100
TZNAME:CET
DTSTART:20241027T010000
END:STANDARD
BEGIN:DAYLIGHT
TZOFFSETFROM:+0100
TZOFFSETTO:+0200
TZNAME:CEST
DTSTART:20250330T010000
END:DAYLIGHT
BEGIN:STANDARD
TZOFFSETFROM:+0200
TZOFFSETTO:+0100
TZNAME:CET
DTSTART:20251026T010000
END:STANDARD
BEGIN:DAYLIGHT
TZOFFSETFROM:+0100
TZOFFSETTO:+0200
TZNAME:CEST
DTSTART:20260329T010000
END:DAYLIGHT
BEGIN:STANDARD
TZOFFSETFROM:+0200
TZOFFSETTO:+0100
TZNAME:CET
DTSTART:20261025T010000
END:STANDARD
END:VTIMEZONE
BEGIN:VEVENT
DTSTART;TZID=Europe/Zurich:20250417T193000
DTEND;TZID=Europe/Zurich:20250417T210000
DTSTAMP:20260425T175126
CREATED:20250204T213353Z
LAST-MODIFIED:20250417T103813Z
UID:8831-1744918200-1744923600@www.hautemorges-transition.ch
SUMMARY:Informatique pour tous - introduction à l'intelligence artificielle !! attention changement de lieu !!
DESCRIPTION:📣 Soirée « Informatique pour tous » à Hautemorges ! 💻✨\nAttention\, la soirée aura lieu à la salle villageoise de Sévery (et pas à Apples comme annoncé) \nPlongez avec nous dans le monde fascinant de l’intelligence artificielle 🤖 et découvrez comment elle peut enrichir votre quotidien. Apprenez à utiliser ces nouvelles technologies pour simplifier vos tâches et améliorer votre vie de tous les jours. \nParticipez à un échange interactif pour identifier ensemble vos besoins en informatique personnelle 🌐. \nNotre objectif ? Créer un groupe d’entraide et de support entre habitants de Hautemorges 🏡 pour réduire la fracture numérique et faciliter l’adoption des nouvelles technologies 🚀. \nPar exemple : \n\nGérer efficacement vos mots de passe 🔐\nDétecter les emails frauduleux et naviguer en toute sécurité 🕵️‍♂️\nMaîtriser la sauvegarde de vos données précieuses 💾\n\nQue vous soyez novice ou utilisateur expérimenté\, cette soirée est ouverte à tous ! \n🎉 N’hésitez pas à apporter vos ordinateurs portables ou tablettes pour une expérience pratique 🛠️. \nNe manquez pas cette opportunité de maîtriser le numérique tout en rencontrant vos voisins ! \n🤝 Ensemble\, rendons le numérique accessible à tous à Hautemorges 🌟. \nInscription souhaité \n	Remarque : JavaScript est requis pour ce contenu.
URL:https://www.hautemorges-transition.ch/event/informatique-pour-tous-introduction-a-lintelligence-artificielle/
LOCATION:Sévery – salle villageoise\, Route de Cottens\, Sévery\, Vaud\, 1141\, Suisse
CATEGORIES:Formation
END:VEVENT
END:VCALENDAR