BEGIN:VCALENDAR
VERSION:2.0
PRODID:-//Hautemorges en Transition - ECPv6.15.20//NONSGML v1.0//EN
CALSCALE:GREGORIAN
METHOD:PUBLISH
X-ORIGINAL-URL:https://www.hautemorges-transition.ch
X-WR-CALDESC:Évènements pour Hautemorges en Transition
REFRESH-INTERVAL;VALUE=DURATION:PT1H
X-Robots-Tag:noindex
X-PUBLISHED-TTL:PT1H
BEGIN:VTIMEZONE
TZID:Europe/Zurich
BEGIN:DAYLIGHT
TZOFFSETFROM:+0100
TZOFFSETTO:+0200
TZNAME:CEST
DTSTART:20250330T010000
END:DAYLIGHT
BEGIN:STANDARD
TZOFFSETFROM:+0200
TZOFFSETTO:+0100
TZNAME:CET
DTSTART:20251026T010000
END:STANDARD
BEGIN:DAYLIGHT
TZOFFSETFROM:+0100
TZOFFSETTO:+0200
TZNAME:CEST
DTSTART:20260329T010000
END:DAYLIGHT
BEGIN:STANDARD
TZOFFSETFROM:+0200
TZOFFSETTO:+0100
TZNAME:CET
DTSTART:20261025T010000
END:STANDARD
BEGIN:DAYLIGHT
TZOFFSETFROM:+0100
TZOFFSETTO:+0200
TZNAME:CEST
DTSTART:20270328T010000
END:DAYLIGHT
BEGIN:STANDARD
TZOFFSETFROM:+0200
TZOFFSETTO:+0100
TZNAME:CET
DTSTART:20271031T010000
END:STANDARD
END:VTIMEZONE
BEGIN:VEVENT
DTSTART;TZID=Europe/Zurich:20260204T193000
DTEND;TZID=Europe/Zurich:20260204T213000
DTSTAMP:20260425T013643
CREATED:20251216T201827Z
LAST-MODIFIED:20251217T200030Z
UID:9131-1770233400-1770240600@www.hautemorges-transition.ch
SUMMARY:Rencontre citoyenne - 4.2.2026
DESCRIPTION:Rencontre périodique du groupe citoyen « Hautemorges en Transition » ouvert à toutes et tous. \nContactez-nous si vous avez des questions ou si vous avez déjà une idée/projet/utopie à présenter : contact@hautemorges-transition.ch \nNous allons nous concentrer sur les projets actifs des cercles et sur des idées concrètes\, venez avec vos suggestions\, votre énergie! \nPrenez avec vous : votre verre/tasse et une petite participation à l’apéro canadien qui suivra la séance. \n\n	Remarque : JavaScript est requis pour ce contenu.\n\n\n    \n\n\n        \n        \n        \nLes cercles et leurs projets : \nAlimentation  :\n\ngroupe Endémik\n\nEconomie locale :\n\nressourcerie groupe whatsapp\nRepair Café\nLes boîtes à livres\n\nEnergie:\n\nCaffEnergie\n\nFormation et entraide\n\nle cineclub\nla fresque du climat\nle soutien informatique\nla fondue ou pique-nique familiale\n\nMobilité:\n\nles écoliers en calèche\n\nNature:\n\nGrainothèque\nles points remarquables de Hautemorges\nLa Charte des Jardins
URL:https://www.hautemorges-transition.ch/event/rencontre-citoyenne-4-2-2026/
LOCATION:Le caveau du Château de Pampigny\, Rle du Château 1\, Pampigny\, Vaud\, 1142
CATEGORIES:cercle large
ORGANIZER;CN="Cercle Racine":MAILTO:contact@hautemorges-transition.ch
END:VEVENT
END:VCALENDAR