BEGIN:VCALENDAR
VERSION:2.0
PRODID:-//Hautemorges en Transition - ECPv6.15.20//NONSGML v1.0//EN
CALSCALE:GREGORIAN
METHOD:PUBLISH
X-WR-CALNAME:Hautemorges en Transition
X-ORIGINAL-URL:https://www.hautemorges-transition.ch
X-WR-CALDESC:Évènements pour Hautemorges en Transition
REFRESH-INTERVAL;VALUE=DURATION:PT1H
X-Robots-Tag:noindex
X-PUBLISHED-TTL:PT1H
BEGIN:VTIMEZONE
TZID:Europe/Zurich
BEGIN:DAYLIGHT
TZOFFSETFROM:+0100
TZOFFSETTO:+0200
TZNAME:CEST
DTSTART:20240331T010000
END:DAYLIGHT
BEGIN:STANDARD
TZOFFSETFROM:+0200
TZOFFSETTO:+0100
TZNAME:CET
DTSTART:20241027T010000
END:STANDARD
BEGIN:DAYLIGHT
TZOFFSETFROM:+0100
TZOFFSETTO:+0200
TZNAME:CEST
DTSTART:20250330T010000
END:DAYLIGHT
BEGIN:STANDARD
TZOFFSETFROM:+0200
TZOFFSETTO:+0100
TZNAME:CET
DTSTART:20251026T010000
END:STANDARD
BEGIN:DAYLIGHT
TZOFFSETFROM:+0100
TZOFFSETTO:+0200
TZNAME:CEST
DTSTART:20260329T010000
END:DAYLIGHT
BEGIN:STANDARD
TZOFFSETFROM:+0200
TZOFFSETTO:+0100
TZNAME:CET
DTSTART:20261025T010000
END:STANDARD
END:VTIMEZONE
BEGIN:VEVENT
DTSTART;TZID=Europe/Zurich:20250605T190000
DTEND;TZID=Europe/Zurich:20250605T203000
DTSTAMP:20260425T145609
CREATED:20250503T074831Z
LAST-MODIFIED:20250519T203712Z
UID:8891-1749150000-1749155400@www.hautemorges-transition.ch
SUMMARY:Habiter autrement – autonomie alimentaire et énergétique
DESCRIPTION:Le mouvement citoyen « Hautemorges en Transition » vous propose une 🌿 Visite inspirante : vers l’autonomie énergétique et alimentaire 🔋🥕\n📍Denise et Christian vous ouvrent les portes de leur maison en transition 🌞\nPartis d’un chauffage 100 % électrique\, ils ont transformé leur habitat pour tendre vers l’autonomie : \n🔹 Panneaux solaires photovoltaïques & thermiques\n🔹 Pompe à chaleur & batterie de stockage\n🔹 Récupération d’eau de pluie\n🔹 Serre pour la production alimentaire \n👉 Au programme :\nUne visite guidée de leur installation\, des explications concrètes\, les défis rencontrés et un retour d’expérience. \n📌 Nombre de places limité – merci de vous inscrire via le formulaire ci-dessous.\n🥗 Apéro canadien pour clôturer la rencontre dans la convivialité ! \n\n	Remarque : JavaScript est requis pour ce contenu.
URL:https://www.hautemorges-transition.ch/event/habiter-autrement-autonomie/
CATEGORIES:Energie
ATTACH;FMTTYPE=image/png:https://www.hautemorges-transition.ch/wp-content/uploads/2025/05/2025_06-banner-Het-habiter-autrement.png
END:VEVENT
END:VCALENDAR