BEGIN:VCALENDAR
VERSION:2.0
PRODID:-//Hautemorges en Transition - ECPv6.15.20//NONSGML v1.0//EN
CALSCALE:GREGORIAN
METHOD:PUBLISH
X-ORIGINAL-URL:https://www.hautemorges-transition.ch
X-WR-CALDESC:Évènements pour Hautemorges en Transition
REFRESH-INTERVAL;VALUE=DURATION:PT1H
X-Robots-Tag:noindex
X-PUBLISHED-TTL:PT1H
BEGIN:VTIMEZONE
TZID:Europe/Zurich
BEGIN:DAYLIGHT
TZOFFSETFROM:+0100
TZOFFSETTO:+0200
TZNAME:CEST
DTSTART:20240331T010000
END:DAYLIGHT
BEGIN:STANDARD
TZOFFSETFROM:+0200
TZOFFSETTO:+0100
TZNAME:CET
DTSTART:20241027T010000
END:STANDARD
BEGIN:DAYLIGHT
TZOFFSETFROM:+0100
TZOFFSETTO:+0200
TZNAME:CEST
DTSTART:20250330T010000
END:DAYLIGHT
BEGIN:STANDARD
TZOFFSETFROM:+0200
TZOFFSETTO:+0100
TZNAME:CET
DTSTART:20251026T010000
END:STANDARD
BEGIN:DAYLIGHT
TZOFFSETFROM:+0100
TZOFFSETTO:+0200
TZNAME:CEST
DTSTART:20260329T010000
END:DAYLIGHT
BEGIN:STANDARD
TZOFFSETFROM:+0200
TZOFFSETTO:+0100
TZNAME:CET
DTSTART:20261025T010000
END:STANDARD
END:VTIMEZONE
BEGIN:VEVENT
DTSTART;TZID=Europe/Zurich:20250305T190000
DTEND;TZID=Europe/Zurich:20250305T210000
DTSTAMP:20260425T192206
CREATED:20250127T205710Z
LAST-MODIFIED:20250204T211624Z
UID:8809-1741201200-1741208400@www.hautemorges-transition.ch
SUMMARY:Habiter autrement - présentation et discussion
DESCRIPTION:Le mouvement citoyen « Hautemorges en Transition » vous propose une soirée découverte sur le thème « Habiter autrement »\n4 sujets pour cette soirée qui se terminera par un moment de discussion \n\nPrésentation du projet d’habitation partagée à Chigny Cohabitation à Chigny – Découvrez le projet de vie communautaire de Suzanne. Vivre en communauté pour développer des relations interpersonnelles\, participer à des activités collaboratives\, et bénéficier d’une entraide quotidienne.\nToilettes sèches\, pourquoi et comment ? – Le concept des toilettes sèches pour réduire le gaspillage de l’eau potable\, créer votre composte et réduire l’empreinte écologique vous intéresse? Partage d’expérience avec Luca et Natalie.\nImagerie thermique\, mesure de consommation électrique et mesures d’humidité – Présentation de trois outils disponibles en prêt/location\nLa charte des jardins – Vous êtes passionné.e de jardinage et désireux.se d’adopter des pratiques écologiques et Zéro Déchet ? Savez-vous que la charte des jardins est un moyen de favoriser les liens entre voisins et de préserver son quartier?\n\nInscription ici \n	Remarque : JavaScript est requis pour ce contenu.
URL:https://www.hautemorges-transition.ch/event/habiter-autrement/
LOCATION:Apples salle du Conseil communal d’Apples\, 2e étage du Collège Léman\, chemin des Collèges 5\, Apples\, 1143\, Suisse
CATEGORIES:Mouvement
ATTACH;FMTTYPE=image/jpeg:https://www.hautemorges-transition.ch/wp-content/uploads/2025/01/banner-Het-habiter-autrement.jpg
ORGANIZER;CN="Cercle Racine":MAILTO:contact@hautemorges-transition.ch
END:VEVENT
END:VCALENDAR