BEGIN:VCALENDAR
VERSION:2.0
PRODID:-//Hautemorges en Transition - ECPv6.15.20//NONSGML v1.0//EN
CALSCALE:GREGORIAN
METHOD:PUBLISH
X-ORIGINAL-URL:https://www.hautemorges-transition.ch
X-WR-CALDESC:Évènements pour Hautemorges en Transition
REFRESH-INTERVAL;VALUE=DURATION:PT1H
X-Robots-Tag:noindex
X-PUBLISHED-TTL:PT1H
BEGIN:VTIMEZONE
TZID:Europe/Zurich
BEGIN:DAYLIGHT
TZOFFSETFROM:+0100
TZOFFSETTO:+0200
TZNAME:CEST
DTSTART:20230326T010000
END:DAYLIGHT
BEGIN:STANDARD
TZOFFSETFROM:+0200
TZOFFSETTO:+0100
TZNAME:CET
DTSTART:20231029T010000
END:STANDARD
BEGIN:DAYLIGHT
TZOFFSETFROM:+0100
TZOFFSETTO:+0200
TZNAME:CEST
DTSTART:20240331T010000
END:DAYLIGHT
BEGIN:STANDARD
TZOFFSETFROM:+0200
TZOFFSETTO:+0100
TZNAME:CET
DTSTART:20241027T010000
END:STANDARD
BEGIN:DAYLIGHT
TZOFFSETFROM:+0100
TZOFFSETTO:+0200
TZNAME:CEST
DTSTART:20250330T010000
END:DAYLIGHT
BEGIN:STANDARD
TZOFFSETFROM:+0200
TZOFFSETTO:+0100
TZNAME:CET
DTSTART:20251026T010000
END:STANDARD
END:VTIMEZONE
BEGIN:VEVENT
DTSTART;TZID=Europe/Zurich:20241005T090000
DTEND;TZID=Europe/Zurich:20241005T120000
DTSTAMP:20260426T021611
CREATED:20240515T061137Z
LAST-MODIFIED:20240901T210943Z
UID:8665-1728118800-1728129600@www.hautemorges-transition.ch
SUMMARY:Repair Café de Hautemorges - ANNULE
DESCRIPTION:Le mouvement Hautemorges en Transition a organisé 1 Repair Cafés cette année\, avec le soutien de la commune de Hautemorges et la FRC. \nIl a eu lieu le 1er juin à Sévery. \nObjets réparés\, en fonction des compétences des réparateurs/-trices présent(e)s (sans garantie): \n\nPetit électroménager (avec les piles\, s’il en faut): machines à café\, toaster\, bouilloires électriques\, brosses à dents\, radios\, robots de cuisine\, etc.\nLampes (pensez à amener les bonnes ampoules)\nTextile: vêtements\, tricot\, sacs\, maroquinerie\nMontures de lunettes\, bijoux fantaisies\, divers objets à coller\nJouets ou autres objets en bois ou en plastique\nVélos\, trottinettes\nAiguisage de couteaux\, ciseaux et sécateurs\, affûtage de mèche\nÉlectronique: smartphones\, appareils photo\, chaînes hifi\, PC portables\, etc.\nOrdinateur hardware (changement/ajout de pièce) et software : (réinstallation\, installation de logiciels libres) pour les systèmes  d’exploitations.\nMeubles: petits meubles et travaux de bois\nAutre : petites réparations horlogères simples\, aiguisage de couteaux\nEn automne uniquement: atelier de fartage de skis\, réglages (chaussures/poids)\n\nLes réparations sont gratuites\, sauf pièces détachées (dons dans le chapeau bienvenus). \nRappelez-vous que la durabilité commence avec l’achat d’objets de qualité: les objets bon marché sont souvent difficiles à réparer. \nVous êtes un réparateur et voulez participer au prochain Repair Café ? Merci de nous faire savoir (via contact). \n 
URL:https://www.hautemorges-transition.ch/event/2410-repair-cafe/
LOCATION:Foyer de la salle polyvalente au collège de Chaniaz\, Route de l'Etraz\, Reverolle\, Vaud (Waadt)\, 1128\, Suisse
CATEGORIES:Economie locale
ATTACH;FMTTYPE=image/jpeg:https://www.hautemorges-transition.ch/wp-content/uploads/2024/05/Header-RepairCafe.jpg
END:VEVENT
END:VCALENDAR