BEGIN:VCALENDAR
VERSION:2.0
PRODID:-//Hautemorges en Transition - ECPv6.15.20//NONSGML v1.0//EN
CALSCALE:GREGORIAN
METHOD:PUBLISH
X-WR-CALNAME:Hautemorges en Transition
X-ORIGINAL-URL:https://www.hautemorges-transition.ch
X-WR-CALDESC:Évènements pour Hautemorges en Transition
REFRESH-INTERVAL;VALUE=DURATION:PT1H
X-Robots-Tag:noindex
X-PUBLISHED-TTL:PT1H
BEGIN:VTIMEZONE
TZID:Europe/Zurich
BEGIN:DAYLIGHT
TZOFFSETFROM:+0100
TZOFFSETTO:+0200
TZNAME:CEST
DTSTART:20230326T010000
END:DAYLIGHT
BEGIN:STANDARD
TZOFFSETFROM:+0200
TZOFFSETTO:+0100
TZNAME:CET
DTSTART:20231029T010000
END:STANDARD
BEGIN:DAYLIGHT
TZOFFSETFROM:+0100
TZOFFSETTO:+0200
TZNAME:CEST
DTSTART:20240331T010000
END:DAYLIGHT
BEGIN:STANDARD
TZOFFSETFROM:+0200
TZOFFSETTO:+0100
TZNAME:CET
DTSTART:20241027T010000
END:STANDARD
BEGIN:DAYLIGHT
TZOFFSETFROM:+0100
TZOFFSETTO:+0200
TZNAME:CEST
DTSTART:20250330T010000
END:DAYLIGHT
BEGIN:STANDARD
TZOFFSETFROM:+0200
TZOFFSETTO:+0100
TZNAME:CET
DTSTART:20251026T010000
END:STANDARD
END:VTIMEZONE
BEGIN:VEVENT
DTSTART;TZID=Europe/Zurich:20240911T190000
DTEND;TZID=Europe/Zurich:20240911T203000
DTSTAMP:20260426T033326
CREATED:20240616T193615Z
LAST-MODIFIED:20240911T063553Z
UID:8740-1726081200-1726086600@www.hautemorges-transition.ch
SUMMARY:Rencontre Racine
DESCRIPTION:Rencontre du Cercle Racine (Comité de l’Association).
URL:https://www.hautemorges-transition.ch/event/rencontre-racine/
LOCATION:Pampigny
CATEGORIES:Cercle Racine
END:VEVENT
END:VCALENDAR